BEGIN:VCALENDAR
VERSION:2.0
PRODID:-//Mujde Baptist Church - ECPv6.15.20//NONSGML v1.0//EN
CALSCALE:GREGORIAN
METHOD:PUBLISH
X-WR-CALNAME:Mujde Baptist Church
X-ORIGINAL-URL:https://mujdebaptist.com
X-WR-CALDESC:Events for Mujde Baptist Church
REFRESH-INTERVAL;VALUE=DURATION:PT1H
X-Robots-Tag:noindex
X-PUBLISHED-TTL:PT1H
BEGIN:VTIMEZONE
TZID:Europe/Moscow
BEGIN:STANDARD
TZOFFSETFROM:+0300
TZOFFSETTO:+0300
TZNAME:MSK
DTSTART:20210101T000000
END:STANDARD
END:VTIMEZONE
BEGIN:VEVENT
DTSTART;TZID=Europe/Moscow:20221223T190000
DTEND;TZID=Europe/Moscow:20221223T210000
DTSTAMP:20260423T221013
CREATED:20221123T100907Z
LAST-MODIFIED:20221123T100907Z
UID:606-1671822000-1671829200@mujdebaptist.com
SUMMARY:Noel Kutlaması
DESCRIPTION:23 Aralık Saat 19:00’de Müjde Baptist Kilisesi Dernek’te Noel Günü kutalyacağız! Giriş ücretsizdir! Herkes davetli ve herkes gelen bir hediye alacak. Küçük bir konser olacak modern ve klasik Noel müziği ile. Konserden sonra çay\, kahve\, ve Noel kurabiyeleri ikram edilecek ve herkes kendi süslemenizi süsleyebilir! Adresimiz 2 Sk. No 40/B Erzene Bornova (Defne ve Maya Suits apartmanların karşıyız). Herkes davetlidir ancak 16 yaşından küçüklere bir ebeveyn eşlik etmelidir. Yerinizi ayırmak için ve kayıt olmak içim lütfen burası tıklayın
URL:https://mujdebaptist.com/event/noel-kutlamasi/
LOCATION:Müjde Baptist Kilisesi\, 2 Sk. No 40/B\, İzmir\, Bornova\, Turkey
CATEGORIES:Kutlaması
ATTACH;FMTTYPE=image/png:https://mujdebaptist.com/wp-content/uploads/2022/11/Kayit-olmak-icin-QR-Code-okutun.png
END:VEVENT
END:VCALENDAR