BEGIN:VCALENDAR
VERSION:2.0
PRODID:-//Mujde Baptist Church - ECPv6.15.20//NONSGML v1.0//EN
CALSCALE:GREGORIAN
METHOD:PUBLISH
X-ORIGINAL-URL:https://mujdebaptist.com
X-WR-CALDESC:Events for Mujde Baptist Church
REFRESH-INTERVAL;VALUE=DURATION:PT1H
X-Robots-Tag:noindex
X-PUBLISHED-TTL:PT1H
BEGIN:VTIMEZONE
TZID:UTC
BEGIN:STANDARD
TZOFFSETFROM:+0000
TZOFFSETTO:+0000
TZNAME:UTC
DTSTART:20210101T000000
END:STANDARD
END:VTIMEZONE
BEGIN:VEVENT
DTSTART;TZID=UTC:20220329T180000
DTEND;TZID=UTC:20220329T190000
DTSTAMP:20260423T235509
CREATED:20220309T102115Z
LAST-MODIFIED:20220309T102115Z
UID:560-1648576800-1648580400@mujdebaptist.com
SUMMARY:İngilizce Kulübü
DESCRIPTION:29 Mart İngilizce Konuşma Kulübü başlayacağız. Yeriniz tutmak için kayıt olmalısınız! Her Salı günü saat 18:00’de. Her seviye için. 16 yaş ve üzeri. Kayıt Olmak için buraya tıklayın
URL:https://mujdebaptist.com/event/ingilizce-kulubu-2/
CATEGORIES:Ingilizce
ATTACH;FMTTYPE=image/png:https://mujdebaptist.com/wp-content/uploads/2022/03/English-Instagram.png
END:VEVENT
END:VCALENDAR